BEGIN:VCALENDAR
VERSION:2.0
PRODID:-//Communication Active Normandie - ECPv5.0.3.1//NONSGML v1.0//EN
CALSCALE:GREGORIAN
METHOD:PUBLISH
X-WR-CALNAME:Communication Active Normandie
X-ORIGINAL-URL:https://communication-active-normandie.fr
X-WR-CALDESC:Évènements pour Communication Active Normandie
BEGIN:VTIMEZONE
TZID:Europe/Paris
BEGIN:DAYLIGHT
TZOFFSETFROM:+0100
TZOFFSETTO:+0200
TZNAME:CEST
DTSTART:20230326T010000
END:DAYLIGHT
BEGIN:STANDARD
TZOFFSETFROM:+0200
TZOFFSETTO:+0100
TZNAME:CET
DTSTART:20231029T010000
END:STANDARD
END:VTIMEZONE
BEGIN:VEVENT
DTSTART;VALUE=DATE:20231130
DTEND;VALUE=DATE:20231202
DTSTAMP:20260422T180330
CREATED:20231001T185916Z
LAST-MODIFIED:20231001T190107Z
UID:15612-1701302400-1701475199@communication-active-normandie.fr
SUMMARY:Accompagner vers la réussite d’un concours ou d’un examen Paris
DESCRIPTION:FICHE PROGRAMME ACCOMP REUSSITE CONCOURS \nVous êtes coach\, thérapeute ou enseignant et certains de vos clients souhaitent réussir un examen ou un concours (étudiants \,adultes  ou élèves). Au delà de la posture de coach qui est totalement ouverte à la demande et à ce qui advient dan l’accompagnement\, il est intéressant de se poser les questions : quels sont les piliers de la réussite à une  telle épreuve? Quels peuvent être les outils  d’accompagnement adaptés? \nCette formation est ouverte aux personnes pratiquant l’accompagnement et ayant suivi les trois premiers de PNL \n
URL:https://communication-active-normandie.fr/event/accompagner-vers-la-reussite-dun-concours-ou-dun-examen-paris-2/
LOCATION:Institut Repère\, 78 avenue du Général Michel Bizot\, Paris\, Métro : Michel Bizot\, 75012\, France
CATEGORIES:Formation pour accompagnant
END:VEVENT
END:VCALENDAR