BEGIN:VCALENDAR
VERSION:2.0
PRODID:-//Communication Active Normandie - ECPv5.0.3.1//NONSGML v1.0//EN
CALSCALE:GREGORIAN
METHOD:PUBLISH
X-WR-CALNAME:Communication Active Normandie
X-ORIGINAL-URL:https://communication-active-normandie.fr
X-WR-CALDESC:Évènements pour Communication Active Normandie
BEGIN:VTIMEZONE
TZID:Europe/Paris
BEGIN:DAYLIGHT
TZOFFSETFROM:+0100
TZOFFSETTO:+0200
TZNAME:CEST
DTSTART:20210328T010000
END:DAYLIGHT
BEGIN:STANDARD
TZOFFSETFROM:+0200
TZOFFSETTO:+0100
TZNAME:CET
DTSTART:20211031T010000
END:STANDARD
END:VTIMEZONE
BEGIN:VEVENT
DTSTART;VALUE=DATE:20210420
DTEND;VALUE=DATE:20210703
DTSTAMP:20260422T222115
CREATED:20170703T210458Z
LAST-MODIFIED:20210310T170138Z
UID:12343-1618959600-1625266799@communication-active-normandie.fr
SUMMARY:Formation Praticien PNL\, la conduite du changement
DESCRIPTION:2021-PRATICIEN-CA-ACCOMP\nFormation aux outils de la communication\, de l’écoute et de l’efficacité personnelle\nLes clés du changement\nLa formation se déroule en 14 jours (105 h) – 9h00 – 17h30 à Bayeux \n► Prochaine session \nDu 21 au 23 AVRIL\, 17 au 19 MAI\, 31 MAI au 2 JUIN\, 21 au 23 JUIN\, 1 et 2 JUILLET 2021. \nTarifs :  \n\nEntreprise : 3580 €\nParticulier : 1745 €\n\n\n\n\n\n\n\n\n
URL:https://communication-active-normandie.fr/event/formation-praticien-pnl/
LOCATION:ESPACE VITAMINES  NONANT (près de Bayeux)\, Bayeux\, 14400\, France
CATEGORIES:Formations PNL
ORGANIZER;CN="France%20Doutriaux":MAILTO:francedoutriaux@gmail.com
END:VEVENT
END:VCALENDAR